BEGIN:VCALENDAR
VERSION:2.0
PRODID:-//Bliss Age - ECPv6.3.3.1//NONSGML v1.0//EN
CALSCALE:GREGORIAN
METHOD:PUBLISH
X-WR-CALNAME:Bliss Age
X-ORIGINAL-URL:https://blissage.org
X-WR-CALDESC:Events for Bliss Age
REFRESH-INTERVAL;VALUE=DURATION:PT1H
X-Robots-Tag:noindex
X-PUBLISHED-TTL:PT1H
BEGIN:VTIMEZONE
TZID:UTC
BEGIN:STANDARD
TZOFFSETFROM:+0000
TZOFFSETTO:+0000
TZNAME:UTC
DTSTART:20150101T000000
END:STANDARD
END:VTIMEZONE
BEGIN:VEVENT
DTSTART;TZID=UTC:20150114T000000
DTEND;TZID=UTC:20150114T000000
DTSTAMP:20260422T040058
CREATED:20240228T121828Z
LAST-MODIFIED:20240228T121828Z
UID:989159-1421193600-1421193600@blissage.org
SUMMARY:Makkar Sankranti
DESCRIPTION:
URL:https://blissage.org/event/makkar-sankranti/
LOCATION:West Bengal
END:VEVENT
BEGIN:VEVENT
DTSTART;TZID=UTC:20150122T000000
DTEND;TZID=UTC:20150122T000000
DTSTAMP:20260422T040058
CREATED:20240228T122016Z
LAST-MODIFIED:20240228T122016Z
UID:989188-1421884800-1421884800@blissage.org
SUMMARY:Netaji Birthday
DESCRIPTION:
URL:https://blissage.org/event/netaji-birthday/
LOCATION:West Bengal
END:VEVENT
END:VCALENDAR