BEGIN:VCALENDAR
VERSION:2.0
PRODID:-//Bliss Age - ECPv6.3.3.1//NONSGML v1.0//EN
CALSCALE:GREGORIAN
METHOD:PUBLISH
X-ORIGINAL-URL:https://blissage.org
X-WR-CALDESC:Events for Bliss Age
REFRESH-INTERVAL;VALUE=DURATION:PT1H
X-Robots-Tag:noindex
X-PUBLISHED-TTL:PT1H
BEGIN:VTIMEZONE
TZID:UTC
BEGIN:STANDARD
TZOFFSETFROM:+0000
TZOFFSETTO:+0000
TZNAME:UTC
DTSTART:20240101T000000
END:STANDARD
END:VTIMEZONE
BEGIN:VEVENT
DTSTART;TZID=UTC:20240403T000000
DTEND;TZID=UTC:20240403T000000
DTSTAMP:20260420T125555
CREATED:20240228T121844Z
LAST-MODIFIED:20240228T121844Z
UID:989166-1712102400-1712102400@blissage.org
SUMMARY:New Session Begins
DESCRIPTION:
URL:https://blissage.org/event/new-session-begins/
LOCATION:West Bengal
END:VEVENT
BEGIN:VEVENT
DTSTART;TZID=UTC:20240410T000000
DTEND;TZID=UTC:20240410T000000
DTSTAMP:20260420T125555
CREATED:20240228T121844Z
LAST-MODIFIED:20240228T121844Z
UID:989167-1712707200-1712707200@blissage.org
SUMMARY:Eid
DESCRIPTION:
URL:https://blissage.org/event/eid/
LOCATION:West Bengal
END:VEVENT
BEGIN:VEVENT
DTSTART;TZID=UTC:20240412T000000
DTEND;TZID=UTC:20240412T000000
DTSTAMP:20260420T125555
CREATED:20240228T121844Z
LAST-MODIFIED:20240228T121844Z
UID:989168-1712880000-1712880000@blissage.org
SUMMARY:Ambedkar Jayanti & Bengali New Year
DESCRIPTION:
URL:https://blissage.org/event/ambedkar-jayanti-bengali-new-year/
LOCATION:West Bengal
END:VEVENT
BEGIN:VEVENT
DTSTART;TZID=UTC:20240414T000000
DTEND;TZID=UTC:20240414T000000
DTSTAMP:20260420T125555
CREATED:20240228T121728Z
LAST-MODIFIED:20240228T121728Z
UID:989139-1713052800-1713052800@blissage.org
SUMMARY:Dr. B.R. Ambedkar Jayanti & Bengali New Year
DESCRIPTION:
URL:https://blissage.org/event/dr-b-r-ambedkar-jayanti-bengali-new-year/
LOCATION:West Bengal
END:VEVENT
BEGIN:VEVENT
DTSTART;TZID=UTC:20240430T000000
DTEND;TZID=UTC:20240430T000000
DTSTAMP:20260420T125555
CREATED:20240228T121930Z
LAST-MODIFIED:20240228T121930Z
UID:989169-1714435200-1714435200@blissage.org
SUMMARY:International Dance Day + May Day + Eid-ul-Fitr
DESCRIPTION:
URL:https://blissage.org/event/international-dance-day-may-day-eid-ul-fitr/
LOCATION:West Bengal
END:VEVENT
END:VCALENDAR