BEGIN:VCALENDAR
VERSION:2.0
PRODID:-//Bliss Age - ECPv6.3.3.1//NONSGML v1.0//EN
CALSCALE:GREGORIAN
METHOD:PUBLISH
X-ORIGINAL-URL:https://blissage.org
X-WR-CALDESC:Events for Bliss Age
REFRESH-INTERVAL;VALUE=DURATION:PT1H
X-Robots-Tag:noindex
X-PUBLISHED-TTL:PT1H
BEGIN:VTIMEZONE
TZID:UTC
BEGIN:STANDARD
TZOFFSETFROM:+0000
TZOFFSETTO:+0000
TZNAME:UTC
DTSTART:20240101T000000
END:STANDARD
END:VTIMEZONE
BEGIN:VEVENT
DTSTART;TZID=UTC:20240617T000000
DTEND;TZID=UTC:20240617T000000
DTSTAMP:20260420T093710
CREATED:20240228T121731Z
LAST-MODIFIED:20240228T121731Z
UID:989144-1718582400-1718582400@blissage.org
SUMMARY:Bakrid / Eid al Adha
DESCRIPTION:
URL:https://blissage.org/event/bakrid-eid-al-adha/
LOCATION:West Bengal
END:VEVENT
BEGIN:VEVENT
DTSTART;TZID=UTC:20240621T000000
DTEND;TZID=UTC:20240621T000000
DTSTAMP:20260420T093710
CREATED:20240228T121930Z
LAST-MODIFIED:20240228T121930Z
UID:989172-1718928000-1718928000@blissage.org
SUMMARY:International Yoga Day
DESCRIPTION:
URL:https://blissage.org/event/international-yoga-day/
LOCATION:West Bengal
END:VEVENT
END:VCALENDAR