BEGIN:VCALENDAR
VERSION:2.0
PRODID:-//Bliss Age - ECPv6.3.3.1//NONSGML v1.0//EN
CALSCALE:GREGORIAN
METHOD:PUBLISH
X-WR-CALNAME:Bliss Age
X-ORIGINAL-URL:https://blissage.org
X-WR-CALDESC:Events for Bliss Age
REFRESH-INTERVAL;VALUE=DURATION:PT1H
X-Robots-Tag:noindex
X-PUBLISHED-TTL:PT1H
BEGIN:VTIMEZONE
TZID:UTC
BEGIN:STANDARD
TZOFFSETFROM:+0000
TZOFFSETTO:+0000
TZNAME:UTC
DTSTART:20240101T000000
END:STANDARD
END:VTIMEZONE
BEGIN:VEVENT
DTSTART;TZID=UTC:20241002T000000
DTEND;TZID=UTC:20241002T000000
DTSTAMP:20260420T031255
CREATED:20240228T121747Z
LAST-MODIFIED:20240228T121747Z
UID:989152-1727827200-1727827200@blissage.org
SUMMARY:Gandhi Jayanti & Mahalaya
DESCRIPTION:
URL:https://blissage.org/event/gandhi-jayanti-mahalaya/
LOCATION:West Bengal
END:VEVENT
BEGIN:VEVENT
DTSTART;TZID=UTC:20241005T000000
DTEND;TZID=UTC:20241005T000000
DTSTAMP:20260420T031255
CREATED:20240228T122000Z
LAST-MODIFIED:20240228T122000Z
UID:989181-1728086400-1728086400@blissage.org
SUMMARY:Durga Puja Celebration
DESCRIPTION:
URL:https://blissage.org/event/durga-puja-celebration/
LOCATION:West Bengal
END:VEVENT
BEGIN:VEVENT
DTSTART;TZID=UTC:20241007T000000
DTEND;TZID=UTC:20241007T000000
DTSTAMP:20260420T031255
CREATED:20240228T121747Z
LAST-MODIFIED:20240228T121747Z
UID:989153-1728259200-1728259200@blissage.org
SUMMARY:Durga Puja Vacation
DESCRIPTION:
URL:https://blissage.org/event/durga-puja-vacation/
LOCATION:West Bengal
END:VEVENT
BEGIN:VEVENT
DTSTART;TZID=UTC:20241028T000000
DTEND;TZID=UTC:20241028T000000
DTSTAMP:20260420T031255
CREATED:20240228T122000Z
LAST-MODIFIED:20240228T122000Z
UID:989182-1730073600-1730073600@blissage.org
SUMMARY:Diwali Celebration
DESCRIPTION:
URL:https://blissage.org/event/diwali-celebration/
LOCATION:West Bengal
END:VEVENT
BEGIN:VEVENT
DTSTART;TZID=UTC:20241029T000000
DTEND;TZID=UTC:20241029T000000
DTSTAMP:20260420T031255
CREATED:20240228T121812Z
LAST-MODIFIED:20240228T121812Z
UID:989154-1730160000-1730160000@blissage.org
SUMMARY:Diwali Vacation
DESCRIPTION:
URL:https://blissage.org/event/diwali-vacation/
LOCATION:West Bengal
END:VEVENT
END:VCALENDAR