BEGIN:VCALENDAR
VERSION:2.0
PRODID:-//Bliss Age - ECPv6.3.3.1//NONSGML v1.0//EN
CALSCALE:GREGORIAN
METHOD:PUBLISH
X-WR-CALNAME:Bliss Age
X-ORIGINAL-URL:https://blissage.org
X-WR-CALDESC:Events for Bliss Age
REFRESH-INTERVAL;VALUE=DURATION:PT1H
X-Robots-Tag:noindex
X-PUBLISHED-TTL:PT1H
BEGIN:VTIMEZONE
TZID:UTC
BEGIN:STANDARD
TZOFFSETFROM:+0000
TZOFFSETTO:+0000
TZNAME:UTC
DTSTART:20240101T000000
END:STANDARD
END:VTIMEZONE
BEGIN:VEVENT
DTSTART;TZID=UTC:20241107T000000
DTEND;TZID=UTC:20241107T000000
DTSTAMP:20260420T013355
CREATED:20240228T121812Z
LAST-MODIFIED:20240228T121812Z
UID:989155-1730937600-1730937600@blissage.org
SUMMARY:Chath Puja
DESCRIPTION:
URL:https://blissage.org/event/chath-puja/
LOCATION:West Bengal
END:VEVENT
BEGIN:VEVENT
DTSTART;TZID=UTC:20241114T000000
DTEND;TZID=UTC:20241114T000000
DTSTAMP:20260420T013355
CREATED:20240228T122000Z
LAST-MODIFIED:20240228T122000Z
UID:989183-1731542400-1731542400@blissage.org
SUMMARY:Children’s Day
DESCRIPTION:
URL:https://blissage.org/event/childrens-day/
LOCATION:West Bengal
END:VEVENT
BEGIN:VEVENT
DTSTART;TZID=UTC:20241115T000000
DTEND;TZID=UTC:20241115T000000
DTSTAMP:20260420T013355
CREATED:20240228T121812Z
LAST-MODIFIED:20240228T121812Z
UID:989156-1731628800-1731628800@blissage.org
SUMMARY:Guru Nanak Jayanti
DESCRIPTION:
URL:https://blissage.org/event/guru-nanak-jayanti/
LOCATION:West Bengal
END:VEVENT
END:VCALENDAR