BEGIN:VCALENDAR
VERSION:2.0
PRODID:-//Bliss Age - ECPv6.3.3.1//NONSGML v1.0//EN
CALSCALE:GREGORIAN
METHOD:PUBLISH
X-WR-CALNAME:Bliss Age
X-ORIGINAL-URL:https://blissage.org
X-WR-CALDESC:Events for Bliss Age
REFRESH-INTERVAL;VALUE=DURATION:PT1H
X-Robots-Tag:noindex
X-PUBLISHED-TTL:PT1H
BEGIN:VTIMEZONE
TZID:UTC
BEGIN:STANDARD
TZOFFSETFROM:+0000
TZOFFSETTO:+0000
TZNAME:UTC
DTSTART:20240101T000000
END:STANDARD
END:VTIMEZONE
BEGIN:VEVENT
DTSTART;TZID=UTC:20241221T000000
DTEND;TZID=UTC:20241221T000000
DTSTAMP:20260419T235419
CREATED:20240228T122016Z
LAST-MODIFIED:20240228T122016Z
UID:989184-1734739200-1734739200@blissage.org
SUMMARY:Christmas Celebration
DESCRIPTION:
URL:https://blissage.org/event/christmas-celebration/
LOCATION:West Bengal
END:VEVENT
BEGIN:VEVENT
DTSTART;TZID=UTC:20241223T000000
DTEND;TZID=UTC:20241223T000000
DTSTAMP:20260419T235419
CREATED:20240228T121812Z
LAST-MODIFIED:20240228T121812Z
UID:989157-1734912000-1734912000@blissage.org
SUMMARY:Christmas Vacation
DESCRIPTION:
URL:https://blissage.org/event/christmas-vacation/
LOCATION:West Bengal
END:VEVENT
END:VCALENDAR