BEGIN:VCALENDAR
VERSION:2.0
PRODID:-//Bliss Age - ECPv6.3.3.1//NONSGML v1.0//EN
CALSCALE:GREGORIAN
METHOD:PUBLISH
X-ORIGINAL-URL:https://blissage.org
X-WR-CALDESC:Events for Bliss Age
REFRESH-INTERVAL;VALUE=DURATION:PT1H
X-Robots-Tag:noindex
X-PUBLISHED-TTL:PT1H
BEGIN:VTIMEZONE
TZID:UTC
BEGIN:STANDARD
TZOFFSETFROM:+0000
TZOFFSETTO:+0000
TZNAME:UTC
DTSTART:20250101T000000
END:STANDARD
END:VTIMEZONE
BEGIN:VEVENT
DTSTART;TZID=UTC:20250112T000000
DTEND;TZID=UTC:20250112T000000
DTSTAMP:20260419T223149
CREATED:20240228T121812Z
LAST-MODIFIED:20240228T121812Z
UID:989158-1736640000-1736640000@blissage.org
SUMMARY:Swami Vivekananda Jayanti
DESCRIPTION:
URL:https://blissage.org/event/swami-vivekananda-jayanti/
LOCATION:West Bengal
END:VEVENT
BEGIN:VEVENT
DTSTART;TZID=UTC:20250123T000000
DTEND;TZID=UTC:20250123T000000
DTSTAMP:20260419T223149
CREATED:20240228T121828Z
LAST-MODIFIED:20240228T121828Z
UID:989160-1737590400-1737590400@blissage.org
SUMMARY:Netaji Subhas Chandra Bose Jayanti
DESCRIPTION:
URL:https://blissage.org/event/netaji-subhas-chandra-bose-jayanti/
LOCATION:West Bengal
END:VEVENT
BEGIN:VEVENT
DTSTART;TZID=UTC:20250126T000000
DTEND;TZID=UTC:20250126T000000
DTSTAMP:20260419T223149
CREATED:20240228T121828Z
LAST-MODIFIED:20240228T121828Z
UID:989161-1737849600-1737849600@blissage.org
SUMMARY:Republic Day
DESCRIPTION:
URL:https://blissage.org/event/republic-day/
LOCATION:West Bengal
END:VEVENT
END:VCALENDAR